
BEGIN:VCALENDAR
VERSION:2.0
PRODID:-//adimadim.org - ECPv6.15.13.1//NONSGML v1.0//EN
CALSCALE:GREGORIAN
METHOD:PUBLISH
X-WR-CALNAME:adimadim.org
X-ORIGINAL-URL:https://adimadim.org
X-WR-CALDESC:adimadim.org için etkinlikler
REFRESH-INTERVAL;VALUE=DURATION:PT1H
X-Robots-Tag:noindex
X-PUBLISHED-TTL:PT1H
BEGIN:VTIMEZONE
TZID:Europe/Moscow
BEGIN:STANDARD
TZOFFSETFROM:+0300
TZOFFSETTO:+0300
TZNAME:MSK
DTSTART:20240101T000000
END:STANDARD
END:VTIMEZONE
BEGIN:VEVENT
DTSTART;VALUE=DATE:20250811
DTEND;VALUE=DATE:20250923
DTSTAMP:20260420T114141
CREATED:20250819T002011Z
LAST-MODIFIED:20250819T084311Z
UID:281454-1754870400-1758585599@adimadim.org
SUMMARY:Merrell Belgrad Ultra Kampanyası
DESCRIPTION:Yardımseverlik koşusu projelerini görmek ve kampanya oluşturmak için tıklayın…
URL:https://adimadim.org/etkinlik/merrell-belgrad-ultra-kampanyasi/
CATEGORIES:Kampanyalar
ATTACH;FMTTYPE=image/png:https://adimadim.org/wp-content/uploads/belgrad-ultra-kampanyasi-2.png
END:VEVENT
BEGIN:VEVENT
DTSTART;VALUE=DATE:20250901
DTEND;VALUE=DATE:20251014
DTSTAMP:20260420T114141
CREATED:20250828T220913Z
LAST-MODIFIED:20250901T183001Z
UID:281602-1756684800-1760399999@adimadim.org
SUMMARY:Ultimate Cunda Kampanyası
DESCRIPTION:İyilik peşinde koşmak\, kulaç atmak ve kampanya oluşturmak için tıklayın…
URL:https://adimadim.org/etkinlik/ultimate-cunda-kampanyasi/
CATEGORIES:Kampanyalar
ATTACH;FMTTYPE=image/png:https://adimadim.org/wp-content/uploads/ultimate-cunda-kampanyasi.png
END:VEVENT
BEGIN:VEVENT
DTSTART;VALUE=DATE:20250908
DTEND;VALUE=DATE:20251021
DTSTAMP:20260420T114141
CREATED:20251002T013455Z
LAST-MODIFIED:20251002T013634Z
UID:281882-1757289600-1761004799@adimadim.org
SUMMARY:Eker I Run Kampanyası
DESCRIPTION:Kampanya açarak iyilik peşinde koşmak için tıklayın…
URL:https://adimadim.org/etkinlik/eker-i-run-kampanyasi/
CATEGORIES:Kampanyalar
ATTACH;FMTTYPE=image/png:https://adimadim.org/wp-content/uploads/eker-i-run-kampanyasi.png
END:VEVENT
END:VCALENDAR