
BEGIN:VCALENDAR
VERSION:2.0
PRODID:-//adimadim.org - ECPv6.15.13.1//NONSGML v1.0//EN
CALSCALE:GREGORIAN
METHOD:PUBLISH
X-WR-CALNAME:adimadim.org
X-ORIGINAL-URL:https://adimadim.org
X-WR-CALDESC:adimadim.org için etkinlikler
REFRESH-INTERVAL;VALUE=DURATION:PT1H
X-Robots-Tag:noindex
X-PUBLISHED-TTL:PT1H
BEGIN:VTIMEZONE
TZID:Europe/Moscow
BEGIN:STANDARD
TZOFFSETFROM:+0300
TZOFFSETTO:+0300
TZNAME:MSK
DTSTART:20240101T000000
END:STANDARD
END:VTIMEZONE
BEGIN:VEVENT
DTSTART;VALUE=DATE:20250908
DTEND;VALUE=DATE:20251021
DTSTAMP:20260420T093204
CREATED:20251002T013455Z
LAST-MODIFIED:20251002T013634Z
UID:281882-1757289600-1761004799@adimadim.org
SUMMARY:Eker I Run Kampanyası
DESCRIPTION:Kampanya açarak iyilik peşinde koşmak için tıklayın…
URL:https://adimadim.org/etkinlik/eker-i-run-kampanyasi/
CATEGORIES:Kampanyalar
ATTACH;FMTTYPE=image/png:https://adimadim.org/wp-content/uploads/eker-i-run-kampanyasi.png
END:VEVENT
BEGIN:VEVENT
DTSTART;VALUE=DATE:20250922
DTEND;VALUE=DATE:20251104
DTSTAMP:20260420T093204
CREATED:20251002T005548Z
LAST-MODIFIED:20251002T005548Z
UID:281865-1758499200-1762214399@adimadim.org
SUMMARY:Salomon Cappadocia Ultra Trail Kampanyası
DESCRIPTION:İyilik peşinde koşmak için tıklayın… 
URL:https://adimadim.org/etkinlik/salomon-cappadocia-ultra-trail-kampanyasi/
CATEGORIES:Kampanyalar
ATTACH;FMTTYPE=image/png:https://adimadim.org/wp-content/uploads/cappadocia-ultra-trail-1.png
END:VEVENT
BEGIN:VEVENT
DTSTART;VALUE=DATE:20250922
DTEND;VALUE=DATE:20251104
DTSTAMP:20260420T093204
CREATED:20251002T010432Z
LAST-MODIFIED:20251002T010857Z
UID:281869-1758499200-1762214399@adimadim.org
SUMMARY:Amsterdam Maratonu Kampanyası
DESCRIPTION:Kampanya oluşturarak iyilik peşinde koşmak için tıklayın…
URL:https://adimadim.org/etkinlik/amsterdam-maratonu-2/
CATEGORIES:Kampanyalar
ATTACH;FMTTYPE=image/png:https://adimadim.org/wp-content/uploads/amsterdam-maratonu-1.png
END:VEVENT
BEGIN:VEVENT
DTSTART;VALUE=DATE:20251017
DTEND;VALUE=DATE:20251020
DTSTAMP:20260420T093204
CREATED:20250818T235248Z
LAST-MODIFIED:20250818T235433Z
UID:281439-1760659200-1760918399@adimadim.org
SUMMARY:Salomon Cappadocia Ultra Trail
DESCRIPTION:14K\, 38K\, 63K ve 119K \nNOT: İçinde bulunduğumuz yıl ve önceki 2 yıl içerisinde yardımseverlik koşusu yaptıysanız\, Salomon Cappadocia Ultra Trail’e kayıt olurken İPK numaranızı yazıp\, iyilik peşinde koşanlara özel indirimden faydalanmayı unutmayın.
URL:https://adimadim.org/etkinlik/salomon-cappadocia-ultra-trail/
CATEGORIES:Arazi Yarışı,Yarışlar
ATTACH;FMTTYPE=image/png:https://adimadim.org/wp-content/uploads/cappadocia-ultra-trail.png
END:VEVENT
BEGIN:VEVENT
DTSTART;VALUE=DATE:20251018
DTEND;VALUE=DATE:20251020
DTSTAMP:20260420T093204
CREATED:20250819T000032Z
LAST-MODIFIED:20250819T000032Z
UID:281443-1760745600-1760918399@adimadim.org
SUMMARY:Amsterdam Maratonu
DESCRIPTION:42K\, 21K\, 7.5K\, Kids Run\, Heroes Run / 1K\, Mini Marathon / 1K
URL:https://adimadim.org/etkinlik/amsterdam-maratonu/
CATEGORIES:Yarışlar,Yol Yarışı
ATTACH;FMTTYPE=image/png:https://adimadim.org/wp-content/uploads/amsterdam-maratonu.png
END:VEVENT
BEGIN:VEVENT
DTSTART;TZID=Europe/Moscow:20251018T080000
DTEND;TZID=Europe/Moscow:20251018T093000
DTSTAMP:20260420T093204
CREATED:20251001T221135Z
LAST-MODIFIED:20251001T224756Z
UID:281790-1760774400-1760779800@adimadim.org
SUMMARY:Bursa Antrenmanı
DESCRIPTION:Telegram grubuna katılmak için tıklayın… \nInstagram hesabını takip etmek için tıklayın… \nAntrenman lokasyonu için tıklayın…
URL:https://adimadim.org/etkinlik/bursa-antrenmani-11/
LOCATION:Botanik Park\, Soğanlı\, Nilüfer Cd. No:231\, 16190 Osmangazi̇/Bursa\, Bursa\, 16190\, Turkey
CATEGORIES:Bursa Antrenmanı Hafta Sonu
ATTACH;FMTTYPE=image/jpeg:https://adimadim.org/wp-content/uploads/botanik-park-4.jpg
END:VEVENT
BEGIN:VEVENT
DTSTART;TZID=Europe/Moscow:20251018T080000
DTEND;TZID=Europe/Moscow:20251018T093000
DTSTAMP:20260420T093204
CREATED:20251001T233759Z
LAST-MODIFIED:20251002T175551Z
UID:281823-1760774400-1760779800@adimadim.org
SUMMARY:İstanbul Antrenmanı
DESCRIPTION:Instagram hesabını takip etmek için tıklayın…\nAntrenman lokasyonu için tıklayın…
URL:https://adimadim.org/etkinlik/istanbul-antrenmani-6/
LOCATION:Gülhane Parkı\, Cankurtaran\, Kennedy Cad. Fatih\, İstanbul\, İstanbul\, 34122
CATEGORIES:İstanbul Antrenmanı Hafta Sonu
ATTACH;FMTTYPE=image/jpeg:https://adimadim.org/wp-content/uploads/gülhane.jpg
END:VEVENT
END:VCALENDAR