
BEGIN:VCALENDAR
VERSION:2.0
PRODID:-//adimadim.org - ECPv6.15.13.1//NONSGML v1.0//EN
CALSCALE:GREGORIAN
METHOD:PUBLISH
X-WR-CALNAME:adimadim.org
X-ORIGINAL-URL:https://adimadim.org
X-WR-CALDESC:adimadim.org için etkinlikler
REFRESH-INTERVAL;VALUE=DURATION:PT1H
X-Robots-Tag:noindex
X-PUBLISHED-TTL:PT1H
BEGIN:VTIMEZONE
TZID:Europe/Moscow
BEGIN:STANDARD
TZOFFSETFROM:+0300
TZOFFSETTO:+0300
TZNAME:MSK
DTSTART:20240101T000000
END:STANDARD
END:VTIMEZONE
BEGIN:VEVENT
DTSTART;VALUE=DATE:20250728
DTEND;VALUE=DATE:20250909
DTSTAMP:20260414T214715
CREATED:20250819T003446Z
LAST-MODIFIED:20250828T220743Z
UID:281461-1753660800-1757375999@adimadim.org
SUMMARY:Boğaziçi Kıtalararası Yüzme Yarışı Kampanyası
DESCRIPTION:İyilik peşinde kulaç atmak ve kampanya oluşturmak için tıklayın…
URL:https://adimadim.org/etkinlik/bogazici-kitalararasi-yuzme-yarisi-kampanyasi/
CATEGORIES:Kampanyalar
ATTACH;FMTTYPE=image/png:https://adimadim.org/wp-content/uploads/boğaziçi-yüzme-yarişi-kampanyasi.png
END:VEVENT
BEGIN:VEVENT
DTSTART;VALUE=DATE:20250728
DTEND;VALUE=DATE:20250909
DTSTAMP:20260414T214715
CREATED:20250819T010431Z
LAST-MODIFIED:20250819T083122Z
UID:281466-1753660800-1757375999@adimadim.org
SUMMARY:Runfire Salt Lake Ultra Trail Kampanyası
DESCRIPTION:Yardımseverlik koşusu projelerini görmek ve kampanya oluşturmak için tıklayın…
URL:https://adimadim.org/etkinlik/runfire-salt-lake-ultra-trail-kampanyasi/
CATEGORIES:Kampanyalar
ATTACH;FMTTYPE=image/png:https://adimadim.org/wp-content/uploads/rfsl-kampanyasi-1.png
END:VEVENT
BEGIN:VEVENT
DTSTART;VALUE=DATE:20250811
DTEND;VALUE=DATE:20250923
DTSTAMP:20260414T214715
CREATED:20250819T002011Z
LAST-MODIFIED:20250819T084311Z
UID:281454-1754870400-1758585599@adimadim.org
SUMMARY:Merrell Belgrad Ultra Kampanyası
DESCRIPTION:Yardımseverlik koşusu projelerini görmek ve kampanya oluşturmak için tıklayın…
URL:https://adimadim.org/etkinlik/merrell-belgrad-ultra-kampanyasi/
CATEGORIES:Kampanyalar
ATTACH;FMTTYPE=image/png:https://adimadim.org/wp-content/uploads/belgrad-ultra-kampanyasi-2.png
END:VEVENT
BEGIN:VEVENT
DTSTART;VALUE=DATE:20250822
DTEND;VALUE=DATE:20250825
DTSTAMP:20260414T214715
CREATED:20250818T224946Z
LAST-MODIFIED:20250818T232005Z
UID:281406-1755820800-1756079999@adimadim.org
SUMMARY:Runfire Salt Lake Ultra Trail
DESCRIPTION:10K\, 10K Takım Yarışları\, 15K Day & Night\, 20K\, 40K\, 80K\,100 Mil (160K) ve 100 Mil (160K) Takım Yarışları \nNOT: İçinde bulunduğumuz yıl ve önceki 2 yıl içerisinde yardımseverlik koşusu yaptıysanız\, Merrell Belgrad Ultra’ya kayıt olurken İPK numaranızı yazıp\, iyilik peşinde koşanlara özel indirimden faydalanmayı unutmayın. \nYardımseverlik koşusu projelerini görmek ve kampanya oluşturmak için tıklayın…
URL:https://adimadim.org/etkinlik/runfire-salt-lake-ultra-trail/
CATEGORIES:Arazi Yarışı,Yarışlar
ATTACH;FMTTYPE=image/png:https://adimadim.org/wp-content/uploads/runfire.png
END:VEVENT
BEGIN:VEVENT
DTSTART;VALUE=DATE:20250824
DTEND;VALUE=DATE:20250825
DTSTAMP:20260414T214715
CREATED:20250818T225728Z
LAST-MODIFIED:20250818T231826Z
UID:281413-1755993600-1756079999@adimadim.org
SUMMARY:Boğaziçi Kıtalararası Yüzme Yarışı
DESCRIPTION:6.5K
URL:https://adimadim.org/etkinlik/bogazici-kitalararasi-yuzme-yarisi/
CATEGORIES:Yarışlar,Yüzme Yarışı
ATTACH;FMTTYPE=image/png:https://adimadim.org/wp-content/uploads/boğaziçi-yüzme-yarişi.png
END:VEVENT
BEGIN:VEVENT
DTSTART;TZID=Europe/Moscow:20250826T080000
DTEND;TZID=Europe/Moscow:20250826T213000
DTSTAMP:20260414T214715
CREATED:20250819T013918Z
LAST-MODIFIED:20250819T013918Z
UID:281482-1756195200-1756243800@adimadim.org
SUMMARY:Ankara Antrenmanı
DESCRIPTION:Telegram grubuna katılmak için tıklayın… \nAdım Adım Ankara Instagram hesabını takip etmek  için tıklayın
URL:https://adimadim.org/etkinlik/ankara-antrenmani-4/
CATEGORIES:Ankara Antrenmanı Hafta İçi,Antrenmanlar
ATTACH;FMTTYPE=image/png:https://adimadim.org/wp-content/uploads/ankara-h.-içi-2.png
END:VEVENT
BEGIN:VEVENT
DTSTART;TZID=Europe/Moscow:20250829T000000
DTEND;TZID=Europe/Moscow:20250829T000000
DTSTAMP:20260414T214715
CREATED:20250821T083928Z
LAST-MODIFIED:20250828T234115Z
UID:281490-1756425600-1756425600@adimadim.org
SUMMARY:Bursa Antrenmanı
DESCRIPTION:Telegram grubuna katılmak için tıklayın… \nAdım Adım Ankara Instagram hesabını takip etmek için tıklayın…
URL:https://adimadim.org/etkinlik/bursa-antrenmani-2/
CATEGORIES:Bursa Antrenmanı Hafta İçi
END:VEVENT
BEGIN:VEVENT
DTSTART;TZID=Europe/Moscow:20250831T070000
DTEND;TZID=Europe/Moscow:20250831T083000
DTSTAMP:20260414T214715
CREATED:20250819T014309Z
LAST-MODIFIED:20250819T014309Z
UID:281487-1756623600-1756629000@adimadim.org
SUMMARY:Ankara Antrenmanı
DESCRIPTION:Telegram grubuna katılmak için tıklayın… \nAdım Adım Ankara Instagram hesabını takip etmek  için tıklayın
URL:https://adimadim.org/etkinlik/ankara-antrenmani-5/
CATEGORIES:Ankara Antrenmanı Hafta Sonu,Antrenmanlar
ATTACH;FMTTYPE=image/png:https://adimadim.org/wp-content/uploads/ankara-hafta-sonu.png
END:VEVENT
END:VCALENDAR