
BEGIN:VCALENDAR
VERSION:2.0
PRODID:-//adimadim.org - ECPv6.15.13.1//NONSGML v1.0//EN
CALSCALE:GREGORIAN
METHOD:PUBLISH
X-ORIGINAL-URL:https://adimadim.org
X-WR-CALDESC:adimadim.org için etkinlikler
REFRESH-INTERVAL;VALUE=DURATION:PT1H
X-Robots-Tag:noindex
X-PUBLISHED-TTL:PT1H
BEGIN:VTIMEZONE
TZID:Europe/Moscow
BEGIN:STANDARD
TZOFFSETFROM:+0300
TZOFFSETTO:+0300
TZNAME:MSK
DTSTART:20240101T000000
END:STANDARD
END:VTIMEZONE
BEGIN:VEVENT
DTSTART;VALUE=DATE:20250901
DTEND;VALUE=DATE:20251014
DTSTAMP:20260420T073209
CREATED:20250828T220913Z
LAST-MODIFIED:20250901T183001Z
UID:281602-1756684800-1760399999@adimadim.org
SUMMARY:Ultimate Cunda Kampanyası
DESCRIPTION:İyilik peşinde koşmak\, kulaç atmak ve kampanya oluşturmak için tıklayın…
URL:https://adimadim.org/etkinlik/ultimate-cunda-kampanyasi/
CATEGORIES:Kampanyalar
ATTACH;FMTTYPE=image/png:https://adimadim.org/wp-content/uploads/ultimate-cunda-kampanyasi.png
END:VEVENT
BEGIN:VEVENT
DTSTART;VALUE=DATE:20250908
DTEND;VALUE=DATE:20251021
DTSTAMP:20260420T073209
CREATED:20251002T013455Z
LAST-MODIFIED:20251002T013634Z
UID:281882-1757289600-1761004799@adimadim.org
SUMMARY:Eker I Run Kampanyası
DESCRIPTION:Kampanya açarak iyilik peşinde koşmak için tıklayın…
URL:https://adimadim.org/etkinlik/eker-i-run-kampanyasi/
CATEGORIES:Kampanyalar
ATTACH;FMTTYPE=image/png:https://adimadim.org/wp-content/uploads/eker-i-run-kampanyasi.png
END:VEVENT
BEGIN:VEVENT
DTSTART;VALUE=DATE:20250922
DTEND;VALUE=DATE:20251104
DTSTAMP:20260420T073209
CREATED:20251002T005548Z
LAST-MODIFIED:20251002T005548Z
UID:281865-1758499200-1762214399@adimadim.org
SUMMARY:Salomon Cappadocia Ultra Trail Kampanyası
DESCRIPTION:İyilik peşinde koşmak için tıklayın… 
URL:https://adimadim.org/etkinlik/salomon-cappadocia-ultra-trail-kampanyasi/
CATEGORIES:Kampanyalar
ATTACH;FMTTYPE=image/png:https://adimadim.org/wp-content/uploads/cappadocia-ultra-trail-1.png
END:VEVENT
BEGIN:VEVENT
DTSTART;VALUE=DATE:20250922
DTEND;VALUE=DATE:20251104
DTSTAMP:20260420T073209
CREATED:20251002T010432Z
LAST-MODIFIED:20251002T010857Z
UID:281869-1758499200-1762214399@adimadim.org
SUMMARY:Amsterdam Maratonu Kampanyası
DESCRIPTION:Kampanya oluşturarak iyilik peşinde koşmak için tıklayın…
URL:https://adimadim.org/etkinlik/amsterdam-maratonu-2/
CATEGORIES:Kampanyalar
ATTACH;FMTTYPE=image/png:https://adimadim.org/wp-content/uploads/amsterdam-maratonu-1.png
END:VEVENT
BEGIN:VEVENT
DTSTART;TZID=Europe/Moscow:20251002T200000
DTEND;TZID=Europe/Moscow:20251002T213000
DTSTAMP:20260420T073209
CREATED:20251001T202432Z
LAST-MODIFIED:20251001T235034Z
UID:281714-1759435200-1759440600@adimadim.org
SUMMARY:Antalya Antrenmanı
DESCRIPTION:Telegram grubuna katılmak için tıklayın…\nAdım Adım Antalya Instagram hesabını takip etmek için tıklayın… \nAntrenman lokasyonu için tıklayın…
URL:https://adimadim.org/etkinlik/antalya-antrenmani-9/
LOCATION:Konyaaltı Beach Park\, Sahil Antalya Yaşam Parkı\, Meltem\, Beach Park No: 10/31\, 07030 Muratpaşa/Antalya\, Antalya\, 07030\, Turkey
CATEGORIES:Antalya Antrenmanı Hafta İçi,Antrenmanlar
ATTACH;FMTTYPE=image/png:https://adimadim.org/wp-content/uploads/adim-adim-antalya1.png
END:VEVENT
BEGIN:VEVENT
DTSTART;TZID=Europe/Moscow:20251004T080000
DTEND;TZID=Europe/Moscow:20251004T093000
DTSTAMP:20260420T073209
CREATED:20251001T215841Z
LAST-MODIFIED:20251001T224651Z
UID:281785-1759564800-1759570200@adimadim.org
SUMMARY:Bursa Antrenmanı
DESCRIPTION:Telegram grubuna katılmak için tıklayın…\nInstagram hesabını takip etmek için tıklayın…\nAntrenman lokasyonu için tıklayın… \nAntrenmanın ardından 10:00’da Eker Meydan‘da\, Eker I Run Koşusu için shake out run yapılacak ve toplu fotoğraf çekimi gerçekleştirilecektir.
URL:https://adimadim.org/etkinlik/bursa-antrenmani-10/
LOCATION:Botanik Park\, Soğanlı\, Nilüfer Cd. No:231\, 16190 Osmangazi̇/Bursa\, Bursa\, 16190\, Turkey
CATEGORIES:Bursa Antrenmanı Hafta Sonu
ATTACH;FMTTYPE=image/jpeg:https://adimadim.org/wp-content/uploads/botanik-park-4.jpg
END:VEVENT
BEGIN:VEVENT
DTSTART;VALUE=DATE:20251005
DTEND;VALUE=DATE:20251006
DTSTAMP:20260420T073209
CREATED:20250818T233602Z
LAST-MODIFIED:20250818T233602Z
UID:281434-1759622400-1759708799@adimadim.org
SUMMARY:Eker I Run
DESCRIPTION:5K\, 15K\, 42K ve yaş gruplarına göre kategorilendirilen Minik Adımlar \nNOT: İçinde bulunduğumuz yıl ve önceki 2 yıl içerisinde yardımseverlik koşusu yaptıysanız\, Eker I Run’a kayıt olurken İPK numaranızı yazıp\, iyilik peşinde koşanlara özel indirimden faydalanmayı unutmayın.
URL:https://adimadim.org/etkinlik/eker-i-run/
CATEGORIES:Yarışlar,Yol Yarışı
ATTACH;FMTTYPE=image/png:https://adimadim.org/wp-content/uploads/eker-i-run.png
END:VEVENT
BEGIN:VEVENT
DTSTART;TZID=Europe/Moscow:20251005T073000
DTEND;TZID=Europe/Moscow:20251005T090000
DTSTAMP:20260420T073209
CREATED:20251001T204733Z
LAST-MODIFIED:20251001T234940Z
UID:281724-1759649400-1759654800@adimadim.org
SUMMARY:Antalya Antrenmanı
DESCRIPTION:Telegram grubuna katılmak için tıklayın…\nAdım Adım Antalya Instagram hesabını takip etmek için tıklayın… \nAntrenman lokasyonu için tıklayın…
URL:https://adimadim.org/etkinlik/antalya-antrenmani-14/
LOCATION:Doyran Göleti\, Doyran\, 07070 Konyaaltı/Antalya\, Antalya\, 07070\, Turkey
CATEGORIES:Antalya Antrenmanı Hafta Sonu,Antrenmanlar
ATTACH;FMTTYPE=image/png:https://adimadim.org/wp-content/uploads/adim-adim-antalya2.png
END:VEVENT
BEGIN:VEVENT
DTSTART;TZID=Europe/Moscow:20251007T190000
DTEND;TZID=Europe/Moscow:20251007T203000
DTSTAMP:20260420T073209
CREATED:20251001T193613Z
LAST-MODIFIED:20251001T211609Z
UID:281677-1759863600-1759869000@adimadim.org
SUMMARY:Ankara Antrenmanı
DESCRIPTION:Telegram grubuna katılmak için tıklayın… \nAdım Adım Ankara Instagram hesabını takip etmek  için tıklayın \nAntrenman lokasyonu için tıklayın…
URL:https://adimadim.org/etkinlik/ankara-antrenmani-16/
LOCATION:Anıttepe Koşu Parkuru\, Yücetepe\, 84. Cd. No:68\, Çankaya\, Ankara\, Turkey
CATEGORIES:Ankara Antrenmanı Hafta İçi,Antrenmanlar
ATTACH;FMTTYPE=image/png:https://adimadim.org/wp-content/uploads/ankara-h.-içi-2.png
END:VEVENT
BEGIN:VEVENT
DTSTART;TZID=Europe/Moscow:20251008T193000
DTEND;TZID=Europe/Moscow:20251008T210000
DTSTAMP:20260420T073209
CREATED:20251001T223000Z
LAST-MODIFIED:20251001T224450Z
UID:281799-1759951800-1759957200@adimadim.org
SUMMARY:Bursa Antrenmanı
DESCRIPTION:Telegram grubuna katılmak için tıklayın…\nInstagram hesabını takip etmek için tıklayın…\nAntrenman lokasyonu için tıklayın…
URL:https://adimadim.org/etkinlik/bursa-antrenmani-14/
LOCATION:Hüdavendigar Kent Park\, Acemler Mah\, Dikkaldırım Cd.\, 16130 Ni̇lüfer/Bursa\, Bursa\, Turkey
CATEGORIES:Bursa Antrenmanı Hafta İçi
ATTACH;FMTTYPE=image/jpeg:https://adimadim.org/wp-content/uploads/bursa-hafta-içi-1.jpg
END:VEVENT
BEGIN:VEVENT
DTSTART;TZID=Europe/Moscow:20251008T194500
DTEND;TZID=Europe/Moscow:20251008T211500
DTSTAMP:20260420T073209
CREATED:20251001T230435Z
LAST-MODIFIED:20251002T175503Z
UID:281809-1759952700-1759958100@adimadim.org
SUMMARY:İstanbul Antrenmanı (Caddebostan\, Florya\, Maçka)
DESCRIPTION:Instagram hesabını takip etmek için tıklayın…\nCaddebostan (Beltur) antrenman lokasyonu için tıklayın…\nFlorya (Atatürk Kent Ormanı Bahçezade girişi) antrenman lokasyonu için tıklayın…\nMaçka (teleferik girişi) antrenman lokasyonu için tıklayın…
URL:https://adimadim.org/etkinlik/istanbul-antrenmani-caddebostan-florya-macka-5/
CATEGORIES:İstanbul Antrenmanı Hafta İçi
ATTACH;FMTTYPE=image/jpeg:https://adimadim.org/wp-content/uploads/florya-antrenmani-1.jpg
END:VEVENT
BEGIN:VEVENT
DTSTART;TZID=Europe/Moscow:20251008T200000
DTEND;TZID=Europe/Moscow:20251008T213000
DTSTAMP:20260420T073209
CREATED:20251002T000221Z
LAST-MODIFIED:20251002T175352Z
UID:281838-1759953600-1759959000@adimadim.org
SUMMARY:İzmir Antrenmanı
DESCRIPTION:Instagram hesabını takip etmek için tıklayın…\nWhatsapp grubuna katılmak için tıklayın…
URL:https://adimadim.org/etkinlik/izmir-antrenmani-5/
LOCATION:Kültürpark 26 Ağustos Kapısı\, Mimar Sinan\, Ziya Gökalp Blv. 1-1\, 35220 Konak/İzmir\, İzmir\, 35220\, Turkey
CATEGORIES:İzmir Antrenmanı Hafta İçi
ATTACH;FMTTYPE=image/jpeg:https://adimadim.org/wp-content/uploads/izmir.jpeg
END:VEVENT
BEGIN:VEVENT
DTSTART;TZID=Europe/Moscow:20251009T200000
DTEND;TZID=Europe/Moscow:20251009T213000
DTSTAMP:20260420T073209
CREATED:20251001T203012Z
LAST-MODIFIED:20251001T234957Z
UID:281716-1760040000-1760045400@adimadim.org
SUMMARY:Antalya Antrenmanı
DESCRIPTION:Telegram grubuna katılmak için tıklayın…\nAdım Adım Antalya Instagram hesabını takip etmek için tıklayın… \nAntrenman lokasyonu için tıklayın…
URL:https://adimadim.org/etkinlik/antalya-antrenmani-10/
LOCATION:Yalım Park\, Yeşilbahçe\, Lara Cd. No:33A\, 07160 Muratpaşa/Antalya\, Antalya\, 07160\, Turkey
CATEGORIES:Antalya Antrenmanı Hafta İçi,Antrenmanlar
ATTACH;FMTTYPE=image/png:https://adimadim.org/wp-content/uploads/adim-adim-antalya1.png
END:VEVENT
BEGIN:VEVENT
DTSTART;TZID=Europe/Moscow:20251011T080000
DTEND;TZID=Europe/Moscow:20251011T093000
DTSTAMP:20260420T073209
CREATED:20251001T221852Z
LAST-MODIFIED:20251001T224818Z
UID:281787-1760169600-1760175000@adimadim.org
SUMMARY:Bursa Antrenmanı
DESCRIPTION:Telegram grubuna katılmak için tıklayın… \nInstagram hesabını takip etmek için tıklayın… \nAntrenman lokasyonu için tıklayın… \nAntrenmanın ardından imece kahvaltı yapılacaktır.
URL:https://adimadim.org/etkinlik/bursa-antrenmani-12/
LOCATION:Botanik Park\, Soğanlı\, Nilüfer Cd. No:231\, 16190 Osmangazi̇/Bursa\, Bursa\, 16190\, Turkey
CATEGORIES:Bursa Antrenmanı Hafta Sonu
ATTACH;FMTTYPE=image/jpeg:https://adimadim.org/wp-content/uploads/botanik-park-4.jpg
END:VEVENT
BEGIN:VEVENT
DTSTART;TZID=Europe/Moscow:20251011T080000
DTEND;TZID=Europe/Moscow:20251011T093000
DTSTAMP:20260420T073209
CREATED:20251001T232754Z
LAST-MODIFIED:20251002T175520Z
UID:281819-1760169600-1760175000@adimadim.org
SUMMARY:İstanbul Antrenmanı
DESCRIPTION:Instagram hesabını takip etmek için tıklayın…\nAntrenman lokasyonu için tıklayın…
URL:https://adimadim.org/etkinlik/istanbul-antrenmani-5/
LOCATION:Florya Atatürk Ormanı\, Şenlikköy Mahallesi Florya Caddesi Atatürk oramanı girişi\, Atatürk Ormanı\, 34153 Bakırköy\, İstanbul\, İstanbul\, 34153\, Turkey
CATEGORIES:İstanbul Antrenmanı Hafta Sonu
ATTACH;FMTTYPE=image/jpeg:https://adimadim.org/wp-content/uploads/belgrad-ormani-1.jpg
END:VEVENT
BEGIN:VEVENT
DTSTART;TZID=Europe/Moscow:20251012T073000
DTEND;TZID=Europe/Moscow:20251012T090000
DTSTAMP:20260420T073209
CREATED:20251001T205046Z
LAST-MODIFIED:20251001T235134Z
UID:281726-1760254200-1760259600@adimadim.org
SUMMARY:Antalya Antrenmanı
DESCRIPTION:Telegram grubuna katılmak için tıklayın…\nAdım Adım Antalya Instagram hesabını takip etmek için tıklayın… \nAntrenman lokasyonu için tıklayın…
URL:https://adimadim.org/etkinlik/antalya-antrenmani-15/
LOCATION:Dokuma Park\, Fabrikalar\, Namık Kemal Bl. No:225\, 07090 Kepez/Antalya\, Antalya\, 07090\, Turkey
CATEGORIES:Antalya Antrenmanı Hafta Sonu,Antrenmanlar
ATTACH;FMTTYPE=image/png:https://adimadim.org/wp-content/uploads/adim-adim-antalya2.png
END:VEVENT
BEGIN:VEVENT
DTSTART;TZID=Europe/Moscow:20251012T080000
DTEND;TZID=Europe/Moscow:20251012T093000
DTSTAMP:20260420T073209
CREATED:20251001T191200Z
LAST-MODIFIED:20251001T211558Z
UID:281661-1760256000-1760261400@adimadim.org
SUMMARY:Ankara Antrenmanı
DESCRIPTION:Telegram grubuna katılmak için tıklayın… \nAdım Adım Ankara Instagram hesabını takip etmek  için tıklayın \nAntrenman lokasyonu için tıklayın…
URL:https://adimadim.org/etkinlik/ankara-antrenmani-12/
LOCATION:Eymir Gölü\, Çankaya\, Ankara\, Turkey
CATEGORIES:Ankara Antrenmanı Hafta Sonu,Antrenmanlar
ATTACH;FMTTYPE=image/png:https://adimadim.org/wp-content/uploads/ankara-hafta-sonu.png
END:VEVENT
BEGIN:VEVENT
DTSTART;TZID=Europe/Moscow:20251014T190000
DTEND;TZID=Europe/Moscow:20251014T203000
DTSTAMP:20260420T073209
CREATED:20251001T193951Z
LAST-MODIFIED:20251001T211529Z
UID:281679-1760468400-1760473800@adimadim.org
SUMMARY:Ankara Antrenmanı
DESCRIPTION:Telegram grubuna katılmak için tıklayın… \nAdım Adım Ankara Instagram hesabını takip etmek  için tıklayın \nAntrenman lokasyonu için tıklayın…
URL:https://adimadim.org/etkinlik/281679/
LOCATION:Anıttepe Koşu Parkuru\, Yücetepe\, 84. Cd. No:68\, Çankaya\, Ankara\, Turkey
CATEGORIES:Ankara Antrenmanı Hafta İçi,Antrenmanlar
ATTACH;FMTTYPE=image/png:https://adimadim.org/wp-content/uploads/ankara-h.-içi-2.png
END:VEVENT
BEGIN:VEVENT
DTSTART;TZID=Europe/Moscow:20251015T193000
DTEND;TZID=Europe/Moscow:20251015T210000
DTSTAMP:20260420T073209
CREATED:20251001T223351Z
LAST-MODIFIED:20251001T224810Z
UID:281801-1760556600-1760562000@adimadim.org
SUMMARY:Bursa Antrenmanı
DESCRIPTION:Telegram grubuna katılmak için tıklayın…\nInstagram hesabını takip etmek için tıklayın…\nAntrenman lokasyonu için tıklayın…
URL:https://adimadim.org/etkinlik/bursa-antrenmani-15/
LOCATION:Hüdavendigar Kent Park\, Acemler Mah\, Dikkaldırım Cd.\, 16130 Ni̇lüfer/Bursa\, Bursa\, Turkey
CATEGORIES:Bursa Antrenmanı Hafta Sonu
ATTACH;FMTTYPE=image/jpeg:https://adimadim.org/wp-content/uploads/bursa-hafta-içi-1.jpg
END:VEVENT
BEGIN:VEVENT
DTSTART;TZID=Europe/Moscow:20251015T194500
DTEND;TZID=Europe/Moscow:20251015T211500
DTSTAMP:20260420T073209
CREATED:20251001T230708Z
LAST-MODIFIED:20251002T175529Z
UID:281808-1760557500-1760562900@adimadim.org
SUMMARY:İstanbul Antrenmanı (Caddebostan\, Florya\, Maçka)
DESCRIPTION:Instagram hesabını takip etmek için tıklayın… \nCaddebostan (Beltur) antrenman lokasyonu için tıklayın…\nFlorya (Atatürk Kent Ormanı Bahçezade girişi) antrenman lokasyonu için tıklayın…\nMaçka (teleferik girişi) antrenman lokasyonu için tıklayın…
URL:https://adimadim.org/etkinlik/istanbul-antrenmani-caddebostan-florya-macka-6/
CATEGORIES:İstanbul Antrenmanı Hafta İçi
ATTACH;FMTTYPE=image/jpeg:https://adimadim.org/wp-content/uploads/florya-antrenmani-1.jpg
END:VEVENT
BEGIN:VEVENT
DTSTART;TZID=Europe/Moscow:20251015T200000
DTEND;TZID=Europe/Moscow:20251015T213000
DTSTAMP:20260420T073209
CREATED:20251002T000644Z
LAST-MODIFIED:20251002T175407Z
UID:281842-1760558400-1760563800@adimadim.org
SUMMARY:İzmir Antrenmanı
DESCRIPTION:Instagram hesabını takip etmek için tıklayın…\nWhatsapp grubuna katılmak için tıklayın…
URL:https://adimadim.org/etkinlik/izmir-antrenmani-6/
LOCATION:Kültürpark 26 Ağustos Kapısı\, Mimar Sinan\, Ziya Gökalp Blv. 1-1\, 35220 Konak/İzmir\, İzmir\, 35220\, Turkey
CATEGORIES:İzmir Antrenmanı Hafta İçi
ATTACH;FMTTYPE=image/jpeg:https://adimadim.org/wp-content/uploads/izmir.jpeg
END:VEVENT
BEGIN:VEVENT
DTSTART;TZID=Europe/Moscow:20251016T200000
DTEND;TZID=Europe/Moscow:20251016T213000
DTSTAMP:20260420T073209
CREATED:20251001T203317Z
LAST-MODIFIED:20251001T235149Z
UID:281718-1760644800-1760650200@adimadim.org
SUMMARY:Antalya Antrenmanı
DESCRIPTION:Telegram grubuna katılmak için tıklayın…\nAdım Adım Antalya Instagram hesabını takip etmek için tıklayın… \nAntrenman lokasyonu için tıklayın…
URL:https://adimadim.org/etkinlik/antalya-antrenmani-11/
LOCATION:Konyaaltı Beach Park\, Sahil Antalya Yaşam Parkı\, Meltem\, Beach Park No: 10/31\, 07030 Muratpaşa/Antalya\, Antalya\, 07030\, Turkey
CATEGORIES:Antalya Antrenmanı Hafta İçi,Antrenmanlar
ATTACH;FMTTYPE=image/png:https://adimadim.org/wp-content/uploads/adim-adim-antalya1.png
END:VEVENT
BEGIN:VEVENT
DTSTART;VALUE=DATE:20251017
DTEND;VALUE=DATE:20251020
DTSTAMP:20260420T073209
CREATED:20250818T235248Z
LAST-MODIFIED:20250818T235433Z
UID:281439-1760659200-1760918399@adimadim.org
SUMMARY:Salomon Cappadocia Ultra Trail
DESCRIPTION:14K\, 38K\, 63K ve 119K \nNOT: İçinde bulunduğumuz yıl ve önceki 2 yıl içerisinde yardımseverlik koşusu yaptıysanız\, Salomon Cappadocia Ultra Trail’e kayıt olurken İPK numaranızı yazıp\, iyilik peşinde koşanlara özel indirimden faydalanmayı unutmayın.
URL:https://adimadim.org/etkinlik/salomon-cappadocia-ultra-trail/
CATEGORIES:Arazi Yarışı,Yarışlar
ATTACH;FMTTYPE=image/png:https://adimadim.org/wp-content/uploads/cappadocia-ultra-trail.png
END:VEVENT
BEGIN:VEVENT
DTSTART;VALUE=DATE:20251018
DTEND;VALUE=DATE:20251020
DTSTAMP:20260420T073209
CREATED:20250819T000032Z
LAST-MODIFIED:20250819T000032Z
UID:281443-1760745600-1760918399@adimadim.org
SUMMARY:Amsterdam Maratonu
DESCRIPTION:42K\, 21K\, 7.5K\, Kids Run\, Heroes Run / 1K\, Mini Marathon / 1K
URL:https://adimadim.org/etkinlik/amsterdam-maratonu/
CATEGORIES:Yarışlar,Yol Yarışı
ATTACH;FMTTYPE=image/png:https://adimadim.org/wp-content/uploads/amsterdam-maratonu.png
END:VEVENT
BEGIN:VEVENT
DTSTART;TZID=Europe/Moscow:20251018T080000
DTEND;TZID=Europe/Moscow:20251018T093000
DTSTAMP:20260420T073209
CREATED:20251001T221135Z
LAST-MODIFIED:20251001T224756Z
UID:281790-1760774400-1760779800@adimadim.org
SUMMARY:Bursa Antrenmanı
DESCRIPTION:Telegram grubuna katılmak için tıklayın… \nInstagram hesabını takip etmek için tıklayın… \nAntrenman lokasyonu için tıklayın…
URL:https://adimadim.org/etkinlik/bursa-antrenmani-11/
LOCATION:Botanik Park\, Soğanlı\, Nilüfer Cd. No:231\, 16190 Osmangazi̇/Bursa\, Bursa\, 16190\, Turkey
CATEGORIES:Bursa Antrenmanı Hafta Sonu
ATTACH;FMTTYPE=image/jpeg:https://adimadim.org/wp-content/uploads/botanik-park-4.jpg
END:VEVENT
BEGIN:VEVENT
DTSTART;TZID=Europe/Moscow:20251018T080000
DTEND;TZID=Europe/Moscow:20251018T093000
DTSTAMP:20260420T073209
CREATED:20251001T233759Z
LAST-MODIFIED:20251002T175551Z
UID:281823-1760774400-1760779800@adimadim.org
SUMMARY:İstanbul Antrenmanı
DESCRIPTION:Instagram hesabını takip etmek için tıklayın…\nAntrenman lokasyonu için tıklayın…
URL:https://adimadim.org/etkinlik/istanbul-antrenmani-6/
LOCATION:Gülhane Parkı\, Cankurtaran\, Kennedy Cad. Fatih\, İstanbul\, İstanbul\, 34122
CATEGORIES:İstanbul Antrenmanı Hafta Sonu
ATTACH;FMTTYPE=image/jpeg:https://adimadim.org/wp-content/uploads/gülhane.jpg
END:VEVENT
BEGIN:VEVENT
DTSTART;TZID=Europe/Moscow:20251019T073000
DTEND;TZID=Europe/Moscow:20251019T090000
DTSTAMP:20260420T073209
CREATED:20251001T205542Z
LAST-MODIFIED:20251001T235157Z
UID:281728-1760859000-1760864400@adimadim.org
SUMMARY:Antalya Antrenmanı
DESCRIPTION:Telegram grubuna katılmak için tıklayın…\nAdım Adım Antalya Instagram hesabını takip etmek için tıklayın… \nAntrenman lokasyonu için tıklayın…
URL:https://adimadim.org/etkinlik/antalya-antrenmani-16/
LOCATION:Güver Uçurumu / Helikopter Pisti\, Karaman\, Antalya Denizli Yolu\, 07190 Döşemealtı/Antalya\, Antalya\, 07190\, Turkey
CATEGORIES:Antalya Antrenmanı Hafta Sonu,Antrenmanlar
ATTACH;FMTTYPE=image/png:https://adimadim.org/wp-content/uploads/adim-adim-antalya2.png
END:VEVENT
BEGIN:VEVENT
DTSTART;TZID=Europe/Moscow:20251019T080000
DTEND;TZID=Europe/Moscow:20251019T093000
DTSTAMP:20260420T073209
CREATED:20251001T192006Z
LAST-MODIFIED:20251001T211517Z
UID:281665-1760860800-1760866200@adimadim.org
SUMMARY:Ankara Antrenmanı
DESCRIPTION:Telegram grubuna katılmak için tıklayın… \nAdım Adım Ankara Instagram hesabını takip etmek  için tıklayın \nAntrenman lokasyonu için tıklayın…
URL:https://adimadim.org/etkinlik/ankara-antrenmani-13/
LOCATION:Eymir Gölü\, Çankaya\, Ankara\, Turkey
CATEGORIES:Ankara Antrenmanı Hafta Sonu,Antrenmanlar
ATTACH;FMTTYPE=image/png:https://adimadim.org/wp-content/uploads/ankara-hafta-sonu.png
END:VEVENT
BEGIN:VEVENT
DTSTART;TZID=Europe/Moscow:20251019T090000
DTEND;TZID=Europe/Moscow:20251019T103000
DTSTAMP:20260420T073209
CREATED:20251002T003228Z
LAST-MODIFIED:20251002T175558Z
UID:281858-1760864400-1760869800@adimadim.org
SUMMARY:İzmir Antrenmanı
DESCRIPTION:Instagram hesabını takip etmek için tıklayın…\nWhatsapp grubuna katılmak için tıklayın…
URL:https://adimadim.org/etkinlik/izmir-antrenmani-14/
LOCATION:İnciraltı Kent Ormanı\, İzmir Büyükşehir Belediyesi İnciraltı Kent Ormanı\, İzmir\, Turkey
CATEGORIES:İzmir Antrenmanı Hafta Sonu
ATTACH;FMTTYPE=image/jpeg:https://adimadim.org/wp-content/uploads/adim-adim-izmir.jpg
END:VEVENT
BEGIN:VEVENT
DTSTART;TZID=Europe/Moscow:20251021T190000
DTEND;TZID=Europe/Moscow:20251021T203000
DTSTAMP:20260420T073209
CREATED:20251001T194252Z
LAST-MODIFIED:20251001T211455Z
UID:281683-1761073200-1761078600@adimadim.org
SUMMARY:Ankara Antrenmanı
DESCRIPTION:Telegram grubuna katılmak için tıklayın… \nAdım Adım Ankara Instagram hesabını takip etmek  için tıklayın \nAntrenman lokasyonu için tıklayın…
URL:https://adimadim.org/etkinlik/adim-adim-ankara/
LOCATION:Anıttepe Koşu Parkuru\, Yücetepe\, 84. Cd. No:68\, Çankaya\, Ankara\, Turkey
CATEGORIES:Ankara Antrenmanı Hafta İçi,Antrenmanlar
ATTACH;FMTTYPE=image/png:https://adimadim.org/wp-content/uploads/ankara-h.-içi-2.png
END:VEVENT
END:VCALENDAR