
BEGIN:VCALENDAR
VERSION:2.0
PRODID:-//adimadim.org - ECPv6.15.13.1//NONSGML v1.0//EN
CALSCALE:GREGORIAN
METHOD:PUBLISH
X-WR-CALNAME:adimadim.org
X-ORIGINAL-URL:https://adimadim.org
X-WR-CALDESC:adimadim.org için etkinlikler
REFRESH-INTERVAL;VALUE=DURATION:PT1H
X-Robots-Tag:noindex
X-PUBLISHED-TTL:PT1H
BEGIN:VTIMEZONE
TZID:Europe/Moscow
BEGIN:STANDARD
TZOFFSETFROM:+0300
TZOFFSETTO:+0300
TZNAME:MSK
DTSTART:20250101T000000
END:STANDARD
END:VTIMEZONE
BEGIN:VEVENT
DTSTART;TZID=Europe/Moscow:20260316T000100
DTEND;TZID=Europe/Moscow:20260427T235900
DTSTAMP:20260419T000419
CREATED:20260409T091335Z
LAST-MODIFIED:20260409T095038Z
UID:282244-1773619260-1777334340@adimadim.org
SUMMARY:İZNİK ULTRA MARATONU KAMPANYASI
DESCRIPTION:İyilik peşinde koşmak ve kampanya oluşturmak için tıklayın…
URL:https://adimadim.org/etkinlik/iznik-ultra-kampanyasi/
CATEGORIES:Kampanyalar
ATTACH;FMTTYPE=image/png:https://adimadim.org/wp-content/uploads/İznik-Ultra.png
END:VEVENT
END:VCALENDAR