
BEGIN:VCALENDAR
VERSION:2.0
PRODID:-//adimadim.org - ECPv6.15.13.1//NONSGML v1.0//EN
CALSCALE:GREGORIAN
METHOD:PUBLISH
X-WR-CALNAME:adimadim.org
X-ORIGINAL-URL:https://adimadim.org
X-WR-CALDESC:adimadim.org için etkinlikler
REFRESH-INTERVAL;VALUE=DURATION:PT1H
X-Robots-Tag:noindex
X-PUBLISHED-TTL:PT1H
BEGIN:VTIMEZONE
TZID:Europe/Moscow
BEGIN:STANDARD
TZOFFSETFROM:+0300
TZOFFSETTO:+0300
TZNAME:MSK
DTSTART:20240101T000000
END:STANDARD
END:VTIMEZONE
BEGIN:VEVENT
DTSTART;VALUE=DATE:20250922
DTEND;VALUE=DATE:20251104
DTSTAMP:20260413T080916
CREATED:20251002T005548Z
LAST-MODIFIED:20251002T005548Z
UID:281865-1758499200-1762214399@adimadim.org
SUMMARY:Salomon Cappadocia Ultra Trail Kampanyası
DESCRIPTION:İyilik peşinde koşmak için tıklayın… 
URL:https://adimadim.org/etkinlik/salomon-cappadocia-ultra-trail-kampanyasi/
CATEGORIES:Kampanyalar
ATTACH;FMTTYPE=image/png:https://adimadim.org/wp-content/uploads/cappadocia-ultra-trail-1.png
END:VEVENT
END:VCALENDAR